BEGIN:VCALENDAR
VERSION:2.0
PRODID:-//Ottawa Trans Library - ECPv6.15.20//NONSGML v1.0//EN
CALSCALE:GREGORIAN
METHOD:PUBLISH
X-WR-CALNAME:Ottawa Trans Library
X-ORIGINAL-URL:https://ottawatranslibrary.ca
X-WR-CALDESC:Events for Ottawa Trans Library
REFRESH-INTERVAL;VALUE=DURATION:PT1H
X-Robots-Tag:noindex
X-PUBLISHED-TTL:PT1H
BEGIN:VTIMEZONE
TZID:America/Toronto
BEGIN:DAYLIGHT
TZOFFSETFROM:-0500
TZOFFSETTO:-0400
TZNAME:EDT
DTSTART:20240310T070000
END:DAYLIGHT
BEGIN:STANDARD
TZOFFSETFROM:-0400
TZOFFSETTO:-0500
TZNAME:EST
DTSTART:20241103T060000
END:STANDARD
BEGIN:DAYLIGHT
TZOFFSETFROM:-0500
TZOFFSETTO:-0400
TZNAME:EDT
DTSTART:20250309T070000
END:DAYLIGHT
BEGIN:STANDARD
TZOFFSETFROM:-0400
TZOFFSETTO:-0500
TZNAME:EST
DTSTART:20251102T060000
END:STANDARD
BEGIN:DAYLIGHT
TZOFFSETFROM:-0500
TZOFFSETTO:-0400
TZNAME:EDT
DTSTART:20260308T070000
END:DAYLIGHT
BEGIN:STANDARD
TZOFFSETFROM:-0400
TZOFFSETTO:-0500
TZNAME:EST
DTSTART:20261101T060000
END:STANDARD
END:VTIMEZONE
BEGIN:VEVENT
DTSTART;TZID=America/Toronto:20250622T140000
DTEND;TZID=America/Toronto:20250622T170000
DTSTAMP:20260423T152328
CREATED:20241208T193343Z
LAST-MODIFIED:20241208T193718Z
UID:10001164-1750600800-1750611600@ottawatranslibrary.ca
SUMMARY:Nonbinary Social/Crafternoon
DESCRIPTION:When: Last Sunday of the month from 2-5 pm \nWhat to expect: Non-binary people and friends hanging out and crafting. We have supplies for making bracelets\, folding origami\, colored beads\, embroidery floss\, and plastic lace. Volunteer coordinators will be wearing name tags and can help answer any questions you might have. \nIf you would like an idea of what the event space looks like\, check out our recent pics in the gallery. \nWhat to bring: You don’t need to bring anything. You are welcome to bring your own crafting materials. Food and drink is welcome\, also.
URL:https://ottawatranslibrary.ca/event/nonbinary-social-crafting-night-2-2-2/2025-06-22/
LOCATION:Ottawa Trans Library\, 1104 Somerset St. West\, Ottawa\, ON\, K1Y 3C8\, Canada
END:VEVENT
BEGIN:VEVENT
DTSTART;TZID=America/Toronto:20250620T180000
DTEND;TZID=America/Toronto:20250620T200000
DTSTAMP:20260423T152328
CREATED:20250411T165045Z
LAST-MODIFIED:20250411T165045Z
UID:10001502-1750442400-1750449600@ottawatranslibrary.ca
SUMMARY:Ottawa Trans Library Youth Group
DESCRIPTION:Calling all 2SLGBTQIA+ youth! Are you between the ages of 14-19 and interested in connecting with other Queer youth in your community? Drop into the OTL’s Youth Group on the third Friday of the month between 6pm-8pm to make some new friends and learn more about our community. Meetings are casual and drop in\, so you can stay for as long or as little as you’d like. Expect a mix of discussion\, low stakes activities\, and free time to chat and connect. We hope to see you sometime!
URL:https://ottawatranslibrary.ca/event/ottawa-trans-library-youth-group/2025-06-20/
LOCATION:Ottawa Trans Library\, 1104 Somerset St. West\, Ottawa\, ON\, K1Y 3C8\, Canada
END:VEVENT
BEGIN:VEVENT
DTSTART;TZID=America/Toronto:20250619T180000
DTEND;TZID=America/Toronto:20250619T210000
DTSTAMP:20260423T152328
CREATED:20250516T221239Z
LAST-MODIFIED:20250516T221240Z
UID:10000593-1750356000-1750366800@ottawatranslibrary.ca
SUMMARY:Board Game Night
DESCRIPTION:Join us for Board Game Night! You can check out or current selection of games here\, or bring your own. \nFeel free to bring snacks or drinks. \nIf you have questions / comments / concerns\, go ahead and contact us.
URL:https://ottawatranslibrary.ca/event/board-game-night-21-2-3/2025-06-19/
END:VEVENT
BEGIN:VEVENT
DTSTART;TZID=America/Toronto:20250612T190000
DTEND;TZID=America/Toronto:20250612T210000
DTSTAMP:20260423T152328
CREATED:20241216T154414Z
LAST-MODIFIED:20250516T221433Z
UID:10000357-1749754800-1749762000@ottawatranslibrary.ca
SUMMARY:Parents' Coffee Hour
DESCRIPTION:Are you the parent of a trans kid? Do you want to hang out and meet other parents? Join us for conversation and coffee at the Ottawa Trans Library! All are welcome\, and no registration is required. \nThis will be a recurring event\, so if you can’t make it to this one you might be able to make it to the next one.
URL:https://ottawatranslibrary.ca/event/parents-coffee-hour-6-2/2025-06-12/
LOCATION:Ottawa Trans Library\, 1104 Somerset St. West\, Ottawa\, ON\, K1Y 3C8\, Canada
END:VEVENT
BEGIN:VEVENT
DTSTART;TZID=America/Toronto:20250610T190000
DTEND;TZID=America/Toronto:20250610T210000
DTSTAMP:20260423T152328
CREATED:20250426T143858Z
LAST-MODIFIED:20250506T173210Z
UID:10001564-1749582000-1749589200@ottawatranslibrary.ca
SUMMARY:Folk Spectrum Collective Music Jam
DESCRIPTION:Welcome to Music Nights at the Ottawa Trans Library! \nMeeting biweekly on Tuesdays\, the Folk Spectrum Collective Music Jam is an incubator for trans* and queer music-makers. Know any single tune? You’re welcome to join! Even if it’s just Twinkle Twinkle Little Star. This musical evening provides a nurturing atmosphere for amateur musicians to gather\, play\, explore and learn together. Hope to see you there! \nPlease note. This evening is devoted to making music. Please respect the musicians and the goals behind this initiative. Do not come to the library on Tuesday evenings to borrow books\, or meet and chat with your friends.
URL:https://ottawatranslibrary.ca/event/music-at-the-otl-2/2025-06-10/
END:VEVENT
BEGIN:VEVENT
DTSTART;TZID=America/Toronto:20250607T173000
DTEND;TZID=America/Toronto:20250607T193000
DTSTAMP:20260423T152328
CREATED:20250428T123344Z
LAST-MODIFIED:20250428T123346Z
UID:10001442-1749317400-1749324600@ottawatranslibrary.ca
SUMMARY:Poetry Night
DESCRIPTION:An informal evening of poetry reading and discussion. No mic\, no stage! Share poems you have discovered or ones you have written in a casual atmosphere of poetry appreciation. Meeting on the first Saturday of the month at 5:30.
URL:https://ottawatranslibrary.ca/event/poetry-night-2/2025-06-07/
END:VEVENT
BEGIN:VEVENT
DTSTART;TZID=America/Toronto:20250607T140000
DTEND;TZID=America/Toronto:20250607T170000
DTSTAMP:20260423T152328
CREATED:20250516T220534Z
LAST-MODIFIED:20250516T220535Z
UID:10001256-1749304800-1749315600@ottawatranslibrary.ca
SUMMARY:Collaborative zine making night at the OTL
DESCRIPTION:Come work on zines with us as we work on the next issue of The Dragon Flyer\, the Ottawa Trans Library’s community zine. Write\, draw\, scan\, cut\, and paste with us on our community zine or your own project\, or just come hang out with us. We are collecting stories\, jokes\, poems\, art\, and more from the trans and non-binary community in Ottawa and our friends and families. \nThe zine workshop is a collaborative event to discuss\, share\, and work on zines together. \nCome tell your story.We will provide paper\, templates\, and whatever art supplies we have. No experience necessary. All ages welcome\, children under age 13 must be accompanied by an adult. \nMasking the day of the event is encouraged. Accessibility note: There are two stairs at the door entrance. We have a ramp we can bring out for the door on request. There’s a washroom but it’s not large enough for many mobility devices.
URL:https://ottawatranslibrary.ca/event/collaborative-zine-making-night-at-the-otl-2-2-3-3-2/2025-06-07/
LOCATION:Ottawa Trans Library\, 1104 Somerset St. West\, Ottawa\, ON\, K1Y 3C8\, Canada
END:VEVENT
BEGIN:VEVENT
DTSTART;TZID=America/Toronto:20250527T190000
DTEND;TZID=America/Toronto:20250527T210000
DTSTAMP:20260423T152328
CREATED:20250426T143858Z
LAST-MODIFIED:20250506T173210Z
UID:10001563-1748372400-1748379600@ottawatranslibrary.ca
SUMMARY:Folk Spectrum Collective Music Jam
DESCRIPTION:Welcome to Music Nights at the Ottawa Trans Library! \nMeeting biweekly on Tuesdays\, the Folk Spectrum Collective Music Jam is an incubator for trans* and queer music-makers. Know any single tune? You’re welcome to join! Even if it’s just Twinkle Twinkle Little Star. This musical evening provides a nurturing atmosphere for amateur musicians to gather\, play\, explore and learn together. Hope to see you there! \nPlease note. This evening is devoted to making music. Please respect the musicians and the goals behind this initiative. Do not come to the library on Tuesday evenings to borrow books\, or meet and chat with your friends.
URL:https://ottawatranslibrary.ca/event/music-at-the-otl-2/2025-05-27/
END:VEVENT
BEGIN:VEVENT
DTSTART;TZID=America/Toronto:20250525T140000
DTEND;TZID=America/Toronto:20250525T170000
DTSTAMP:20260423T152328
CREATED:20241208T193343Z
LAST-MODIFIED:20241208T193718Z
UID:10001088-1748181600-1748192400@ottawatranslibrary.ca
SUMMARY:Nonbinary Social/Crafternoon
DESCRIPTION:When: Last Sunday of the month from 2-5 pm \nWhat to expect: Non-binary people and friends hanging out and crafting. We have supplies for making bracelets\, folding origami\, colored beads\, embroidery floss\, and plastic lace. Volunteer coordinators will be wearing name tags and can help answer any questions you might have. \nIf you would like an idea of what the event space looks like\, check out our recent pics in the gallery. \nWhat to bring: You don’t need to bring anything. You are welcome to bring your own crafting materials. Food and drink is welcome\, also.
URL:https://ottawatranslibrary.ca/event/nonbinary-social-crafting-night-2-2-2/2025-05-25/
LOCATION:Ottawa Trans Library\, 1104 Somerset St. West\, Ottawa\, ON\, K1Y 3C8\, Canada
END:VEVENT
BEGIN:VEVENT
DTSTART;TZID=America/Toronto:20250516T180000
DTEND;TZID=America/Toronto:20250516T200000
DTSTAMP:20260423T152328
CREATED:20250411T165045Z
LAST-MODIFIED:20250411T165045Z
UID:10001501-1747418400-1747425600@ottawatranslibrary.ca
SUMMARY:Ottawa Trans Library Youth Group
DESCRIPTION:Calling all 2SLGBTQIA+ youth! Are you between the ages of 14-19 and interested in connecting with other Queer youth in your community? Drop into the OTL’s Youth Group on the third Friday of the month between 6pm-8pm to make some new friends and learn more about our community. Meetings are casual and drop in\, so you can stay for as long or as little as you’d like. Expect a mix of discussion\, low stakes activities\, and free time to chat and connect. We hope to see you sometime!
URL:https://ottawatranslibrary.ca/event/ottawa-trans-library-youth-group/2025-05-16/
LOCATION:Ottawa Trans Library\, 1104 Somerset St. West\, Ottawa\, ON\, K1Y 3C8\, Canada
END:VEVENT
BEGIN:VEVENT
DTSTART;TZID=America/Toronto:20250513T190000
DTEND;TZID=America/Toronto:20250513T210000
DTSTAMP:20260423T152328
CREATED:20250426T143858Z
LAST-MODIFIED:20250506T173210Z
UID:10001562-1747162800-1747170000@ottawatranslibrary.ca
SUMMARY:Folk Spectrum Collective Music Jam
DESCRIPTION:Welcome to Music Nights at the Ottawa Trans Library! \nMeeting biweekly on Tuesdays\, the Folk Spectrum Collective Music Jam is an incubator for trans* and queer music-makers. Know any single tune? You’re welcome to join! Even if it’s just Twinkle Twinkle Little Star. This musical evening provides a nurturing atmosphere for amateur musicians to gather\, play\, explore and learn together. Hope to see you there! \nPlease note. This evening is devoted to making music. Please respect the musicians and the goals behind this initiative. Do not come to the library on Tuesday evenings to borrow books\, or meet and chat with your friends.
URL:https://ottawatranslibrary.ca/event/music-at-the-otl-2/2025-05-13/
END:VEVENT
BEGIN:VEVENT
DTSTART;TZID=America/Toronto:20250508T190000
DTEND;TZID=America/Toronto:20250508T210000
DTSTAMP:20260423T152328
CREATED:20241216T154414Z
LAST-MODIFIED:20250516T221433Z
UID:10001738-1746730800-1746738000@ottawatranslibrary.ca
SUMMARY:Parents' Coffee Hour
DESCRIPTION:Are you the parent of a trans kid? Do you want to hang out and meet other parents? Join us for conversation and coffee at the Ottawa Trans Library! All are welcome\, and no registration is required. \nThis will be a recurring event\, so if you can’t make it to this one you might be able to make it to the next one.
URL:https://ottawatranslibrary.ca/event/parents-coffee-hour-6-2/2025-05-08/
LOCATION:Ottawa Trans Library\, 1104 Somerset St. West\, Ottawa\, ON\, K1Y 3C8\, Canada
END:VEVENT
BEGIN:VEVENT
DTSTART;TZID=America/Toronto:20250508T180000
DTEND;TZID=America/Toronto:20250508T210000
DTSTAMP:20260423T152328
CREATED:20240501T150556Z
LAST-MODIFIED:20240501T150734Z
UID:10000592-1746727200-1746738000@ottawatranslibrary.ca
SUMMARY:Board Game Night
DESCRIPTION:Join us for Board Game Night! You can check out or current selection of games here\, or bring your own. \nFeel free to bring snacks or drinks. \nIf you have questions / comments / concerns\, go ahead and contact us.
URL:https://ottawatranslibrary.ca/event/board-game-night-21-2/2025-05-08/
LOCATION:Ottawa Trans Library\, 1104 Somerset St. West\, Ottawa\, ON\, K1Y 3C8\, Canada
END:VEVENT
BEGIN:VEVENT
DTSTART;TZID=America/Toronto:20250503T173000
DTEND;TZID=America/Toronto:20250503T193000
DTSTAMP:20260423T152328
CREATED:20250428T123344Z
LAST-MODIFIED:20250428T123346Z
UID:10001441-1746293400-1746300600@ottawatranslibrary.ca
SUMMARY:Poetry Night
DESCRIPTION:An informal evening of poetry reading and discussion. No mic\, no stage! Share poems you have discovered or ones you have written in a casual atmosphere of poetry appreciation. Meeting on the first Saturday of the month at 5:30.
URL:https://ottawatranslibrary.ca/event/poetry-night-2/2025-05-03/
END:VEVENT
BEGIN:VEVENT
DTSTART;TZID=America/Toronto:20250503T140000
DTEND;TZID=America/Toronto:20250503T170000
DTSTAMP:20260423T152328
CREATED:20250301T175916Z
LAST-MODIFIED:20250301T180718Z
UID:10001255-1746280800-1746291600@ottawatranslibrary.ca
SUMMARY:Collaborative zine making night at the OTL
DESCRIPTION:Come work on zines with us as we work on the next issue of The Dragon Flyer\, the Ottawa Trans Library’s community zine. Write\, draw\, scan\, cut\, and paste with us on our community zine or your own project\, or just come hang out with us. We are collecting stories\, jokes\, poems\, art\, and more from the trans and non-binary community in Ottawa and our friends and families. \nThe zine workshop is a collaborative event to discuss\, share\, and work on zines together. \nCome tell your story.We will provide paper\, templates\, and whatever art supplies we have. No experience necessary. All ages welcome\, children under age 13 must be accompanied by an adult. \nMasking the day of the event is encouraged. Accessibility note: There are two stairs at the door entrance. We have a ramp we can bring out for the door on request. There’s a washroom but it’s not large enough for many mobility devices.
URL:https://ottawatranslibrary.ca/event/collaborative-zine-making-night-at-the-otl-2-2-3-3/2025-05-03/
LOCATION:Ottawa Trans Library\, 1104 Somerset St. West\, Ottawa\, ON\, K1Y 3C8\, Canada
END:VEVENT
BEGIN:VEVENT
DTSTART;TZID=America/Toronto:20250429T190000
DTEND;TZID=America/Toronto:20250429T210000
DTSTAMP:20260423T152328
CREATED:20250426T143858Z
LAST-MODIFIED:20250506T173210Z
UID:10001439-1745953200-1745960400@ottawatranslibrary.ca
SUMMARY:Folk Spectrum Collective Music Jam
DESCRIPTION:Welcome to Music Nights at the Ottawa Trans Library! \nMeeting biweekly on Tuesdays\, the Folk Spectrum Collective Music Jam is an incubator for trans* and queer music-makers. Know any single tune? You’re welcome to join! Even if it’s just Twinkle Twinkle Little Star. This musical evening provides a nurturing atmosphere for amateur musicians to gather\, play\, explore and learn together. Hope to see you there! \nPlease note. This evening is devoted to making music. Please respect the musicians and the goals behind this initiative. Do not come to the library on Tuesday evenings to borrow books\, or meet and chat with your friends.
URL:https://ottawatranslibrary.ca/event/music-at-the-otl-2/2025-04-29/
END:VEVENT
BEGIN:VEVENT
DTSTART;TZID=America/Toronto:20250427T140000
DTEND;TZID=America/Toronto:20250427T170000
DTSTAMP:20260423T152328
CREATED:20241208T193343Z
LAST-MODIFIED:20241208T193718Z
UID:10001087-1745762400-1745773200@ottawatranslibrary.ca
SUMMARY:Nonbinary Social/Crafternoon
DESCRIPTION:When: Last Sunday of the month from 2-5 pm \nWhat to expect: Non-binary people and friends hanging out and crafting. We have supplies for making bracelets\, folding origami\, colored beads\, embroidery floss\, and plastic lace. Volunteer coordinators will be wearing name tags and can help answer any questions you might have. \nIf you would like an idea of what the event space looks like\, check out our recent pics in the gallery. \nWhat to bring: You don’t need to bring anything. You are welcome to bring your own crafting materials. Food and drink is welcome\, also.
URL:https://ottawatranslibrary.ca/event/nonbinary-social-crafting-night-2-2-2/2025-04-27/
LOCATION:Ottawa Trans Library\, 1104 Somerset St. West\, Ottawa\, ON\, K1Y 3C8\, Canada
END:VEVENT
BEGIN:VEVENT
DTSTART;TZID=America/Toronto:20250424T180000
DTEND;TZID=America/Toronto:20250424T210000
DTSTAMP:20260423T152328
CREATED:20240501T150556Z
LAST-MODIFIED:20240501T150734Z
UID:10000591-1745517600-1745528400@ottawatranslibrary.ca
SUMMARY:Board Game Night
DESCRIPTION:Join us for Board Game Night! You can check out or current selection of games here\, or bring your own. \nFeel free to bring snacks or drinks. \nIf you have questions / comments / concerns\, go ahead and contact us.
URL:https://ottawatranslibrary.ca/event/board-game-night-21-2/2025-04-24/
LOCATION:Ottawa Trans Library\, 1104 Somerset St. West\, Ottawa\, ON\, K1Y 3C8\, Canada
END:VEVENT
BEGIN:VEVENT
DTSTART;TZID=America/Toronto:20250418T180000
DTEND;TZID=America/Toronto:20250418T200000
DTSTAMP:20260423T152328
CREATED:20250411T165045Z
LAST-MODIFIED:20250411T165045Z
UID:10001500-1744999200-1745006400@ottawatranslibrary.ca
SUMMARY:Ottawa Trans Library Youth Group
DESCRIPTION:Calling all 2SLGBTQIA+ youth! Are you between the ages of 14-19 and interested in connecting with other Queer youth in your community? Drop into the OTL’s Youth Group on the third Friday of the month between 6pm-8pm to make some new friends and learn more about our community. Meetings are casual and drop in\, so you can stay for as long or as little as you’d like. Expect a mix of discussion\, low stakes activities\, and free time to chat and connect. We hope to see you sometime!
URL:https://ottawatranslibrary.ca/event/ottawa-trans-library-youth-group/2025-04-18/
LOCATION:Ottawa Trans Library\, 1104 Somerset St. West\, Ottawa\, ON\, K1Y 3C8\, Canada
END:VEVENT
BEGIN:VEVENT
DTSTART;VALUE=DATE:20250418
DTEND;VALUE=DATE:20250422
DTSTAMP:20260423T152328
CREATED:20250413T193118Z
LAST-MODIFIED:20250413T193158Z
UID:10001560-1744934400-1745279999@ottawatranslibrary.ca
SUMMARY:Closed for Easter (except for Ottawa Trans Library Youth Group)
DESCRIPTION:The library will open for the first youth group meeting on Friday the 18th between 6 and 8 pm\, but will be closed during regular hours from Friday\, April 18th to Monday April 21st. The OTL is a volunteer run organization and we will be taking time to recharge.
URL:https://ottawatranslibrary.ca/event/closed-for-easter/
LOCATION:Ottawa Trans Library\, 1104 Somerset St. West\, Ottawa\, ON\, K1Y 3C8\, Canada
END:VEVENT
BEGIN:VEVENT
DTSTART;TZID=America/Toronto:20250415T190000
DTEND;TZID=America/Toronto:20250415T210000
DTSTAMP:20260423T152328
CREATED:20250329T140909Z
LAST-MODIFIED:20250329T141028Z
UID:10001438-1744743600-1744750800@ottawatranslibrary.ca
SUMMARY:Music at the OTL
DESCRIPTION:Welcome to Music Nights at the Ottawa Trans Library! \nMeeting biweekly\, one week to learn tunes\, and every second Tuesday for jam sessions. Any trans-and-queer music-lovers welcome! This is an evening that centres trans and other queer folks\, but open to allies joining in learning\, sharing\, and making beautiful music and memories with us. Know any single tune? You’re welcome to join! Even if it’s just Twinkle Twinkle Little Star. Hope to see you there!
URL:https://ottawatranslibrary.ca/event/music-at-the-otl/2025-04-15/
END:VEVENT
BEGIN:VEVENT
DTSTART;TZID=America/Toronto:20250410T190000
DTEND;TZID=America/Toronto:20250410T210000
DTSTAMP:20260423T152328
CREATED:20241216T154414Z
LAST-MODIFIED:20250516T221433Z
UID:10001737-1744311600-1744318800@ottawatranslibrary.ca
SUMMARY:Parents' Coffee Hour
DESCRIPTION:Are you the parent of a trans kid? Do you want to hang out and meet other parents? Join us for conversation and coffee at the Ottawa Trans Library! All are welcome\, and no registration is required. \nThis will be a recurring event\, so if you can’t make it to this one you might be able to make it to the next one.
URL:https://ottawatranslibrary.ca/event/parents-coffee-hour-6-2/2025-04-10/
LOCATION:Ottawa Trans Library\, 1104 Somerset St. West\, Ottawa\, ON\, K1Y 3C8\, Canada
END:VEVENT
BEGIN:VEVENT
DTSTART;TZID=America/Toronto:20250410T180000
DTEND;TZID=America/Toronto:20250410T210000
DTSTAMP:20260423T152328
CREATED:20240501T150556Z
LAST-MODIFIED:20240501T150734Z
UID:10000590-1744308000-1744318800@ottawatranslibrary.ca
SUMMARY:Board Game Night
DESCRIPTION:Join us for Board Game Night! You can check out or current selection of games here\, or bring your own. \nFeel free to bring snacks or drinks. \nIf you have questions / comments / concerns\, go ahead and contact us.
URL:https://ottawatranslibrary.ca/event/board-game-night-21-2/2025-04-10/
LOCATION:Ottawa Trans Library\, 1104 Somerset St. West\, Ottawa\, ON\, K1Y 3C8\, Canada
END:VEVENT
BEGIN:VEVENT
DTSTART;TZID=America/Toronto:20250405T173000
DTEND;TZID=America/Toronto:20250405T193000
DTSTAMP:20260423T152328
CREATED:20250329T143238Z
LAST-MODIFIED:20250329T143238Z
UID:10001440-1743874200-1743881400@ottawatranslibrary.ca
SUMMARY:Poetry Night
DESCRIPTION:An informal evening of poetry reading and discussion. No mic\, no stage! Share poems you have discovered or ones you have written in a casual atmosphere of poetry appreciation.
URL:https://ottawatranslibrary.ca/event/poetry-night/
END:VEVENT
BEGIN:VEVENT
DTSTART;TZID=America/Toronto:20250405T140000
DTEND;TZID=America/Toronto:20250405T170000
DTSTAMP:20260423T152328
CREATED:20250301T175916Z
LAST-MODIFIED:20250301T180718Z
UID:10001254-1743861600-1743872400@ottawatranslibrary.ca
SUMMARY:Collaborative zine making night at the OTL
DESCRIPTION:Come work on zines with us as we work on the next issue of The Dragon Flyer\, the Ottawa Trans Library’s community zine. Write\, draw\, scan\, cut\, and paste with us on our community zine or your own project\, or just come hang out with us. We are collecting stories\, jokes\, poems\, art\, and more from the trans and non-binary community in Ottawa and our friends and families. \nThe zine workshop is a collaborative event to discuss\, share\, and work on zines together. \nCome tell your story.We will provide paper\, templates\, and whatever art supplies we have. No experience necessary. All ages welcome\, children under age 13 must be accompanied by an adult. \nMasking the day of the event is encouraged. Accessibility note: There are two stairs at the door entrance. We have a ramp we can bring out for the door on request. There’s a washroom but it’s not large enough for many mobility devices.
URL:https://ottawatranslibrary.ca/event/collaborative-zine-making-night-at-the-otl-2-2-3-3/2025-04-05/
LOCATION:Ottawa Trans Library\, 1104 Somerset St. West\, Ottawa\, ON\, K1Y 3C8\, Canada
END:VEVENT
BEGIN:VEVENT
DTSTART;TZID=America/Toronto:20250401T190000
DTEND;TZID=America/Toronto:20250401T210000
DTSTAMP:20260423T152328
CREATED:20250329T140909Z
LAST-MODIFIED:20250329T141028Z
UID:10001437-1743534000-1743541200@ottawatranslibrary.ca
SUMMARY:Music at the OTL
DESCRIPTION:Welcome to Music Nights at the Ottawa Trans Library! \nMeeting biweekly\, one week to learn tunes\, and every second Tuesday for jam sessions. Any trans-and-queer music-lovers welcome! This is an evening that centres trans and other queer folks\, but open to allies joining in learning\, sharing\, and making beautiful music and memories with us. Know any single tune? You’re welcome to join! Even if it’s just Twinkle Twinkle Little Star. Hope to see you there!
URL:https://ottawatranslibrary.ca/event/music-at-the-otl/2025-04-01/
END:VEVENT
BEGIN:VEVENT
DTSTART;TZID=America/Toronto:20250330T130000
DTEND;TZID=America/Toronto:20250330T160000
DTSTAMP:20260423T152328
CREATED:20250329T134035Z
LAST-MODIFIED:20250329T134035Z
UID:10001304-1743339600-1743350400@ottawatranslibrary.ca
SUMMARY:Trans Day of Visibility\, Trans Day of Snacks
DESCRIPTION:Visibility is incredibly important\, and it can also be hard. To celebrate our wonderful community\, the library will be holding an open house celebration on Sunday\, March 30th\, from 1-4PM- with snacks available- While you snack\, check out our amazing collection of books for loan\, play board games\, and socialize with the community! Snacks are first-come\, first-serve prioritizing the trans community. Vegan and gluten-free options will be available! \nThank you to our friends at Moo Shu Ice Cream @mooshuicecream and Little Jo Berry’s @littlejoberrys who have generously provided delicious snacks\, and have consistently supported the library and the Ottawa trans community! \nAnd thank you to the good folks of @gendereveal who popularized the idea of Trans Day of Snack.
URL:https://ottawatranslibrary.ca/event/trans-day-of-visibility-trans-day-of-snacks/
LOCATION:Ottawa Trans Library\, 1104 Somerset St. West\, Ottawa\, ON\, K1Y 3C8\, Canada
END:VEVENT
BEGIN:VEVENT
DTSTART;TZID=America/Toronto:20250327T180000
DTEND;TZID=America/Toronto:20250327T210000
DTSTAMP:20260423T152328
CREATED:20240501T150556Z
LAST-MODIFIED:20240501T150734Z
UID:10000589-1743098400-1743109200@ottawatranslibrary.ca
SUMMARY:Board Game Night
DESCRIPTION:Join us for Board Game Night! You can check out or current selection of games here\, or bring your own. \nFeel free to bring snacks or drinks. \nIf you have questions / comments / concerns\, go ahead and contact us.
URL:https://ottawatranslibrary.ca/event/board-game-night-21-2/2025-03-27/
LOCATION:Ottawa Trans Library\, 1104 Somerset St. West\, Ottawa\, ON\, K1Y 3C8\, Canada
END:VEVENT
BEGIN:VEVENT
DTSTART;TZID=America/Toronto:20250323T140000
DTEND;TZID=America/Toronto:20250323T170000
DTSTAMP:20260423T152328
CREATED:20241208T193343Z
LAST-MODIFIED:20241208T193718Z
UID:10001163-1742738400-1742749200@ottawatranslibrary.ca
SUMMARY:Nonbinary Social/Crafternoon
DESCRIPTION:When: Last Sunday of the month from 2-5 pm \nWhat to expect: Non-binary people and friends hanging out and crafting. We have supplies for making bracelets\, folding origami\, colored beads\, embroidery floss\, and plastic lace. Volunteer coordinators will be wearing name tags and can help answer any questions you might have. \nIf you would like an idea of what the event space looks like\, check out our recent pics in the gallery. \nWhat to bring: You don’t need to bring anything. You are welcome to bring your own crafting materials. Food and drink is welcome\, also.
URL:https://ottawatranslibrary.ca/event/nonbinary-social-crafting-night-2-2-2/2025-03-23/
LOCATION:Ottawa Trans Library\, 1104 Somerset St. West\, Ottawa\, ON\, K1Y 3C8\, Canada
END:VEVENT
BEGIN:VEVENT
DTSTART;TZID=America/Toronto:20250313T190000
DTEND;TZID=America/Toronto:20250313T210000
DTSTAMP:20260423T152328
CREATED:20241216T154414Z
LAST-MODIFIED:20250516T221433Z
UID:10001736-1741892400-1741899600@ottawatranslibrary.ca
SUMMARY:Parents' Coffee Hour
DESCRIPTION:Are you the parent of a trans kid? Do you want to hang out and meet other parents? Join us for conversation and coffee at the Ottawa Trans Library! All are welcome\, and no registration is required. \nThis will be a recurring event\, so if you can’t make it to this one you might be able to make it to the next one.
URL:https://ottawatranslibrary.ca/event/parents-coffee-hour-6-2/2025-03-13/
LOCATION:Ottawa Trans Library\, 1104 Somerset St. West\, Ottawa\, ON\, K1Y 3C8\, Canada
END:VEVENT
END:VCALENDAR